Package: NewWave Version: 1.19.0 Command: /Library/Frameworks/R.framework/Resources/bin/R CMD build --keep-empty-dirs --no-resave-data NewWave StartedAt: 2025-10-19 18:30:23 -0400 (Sun, 19 Oct 2025) EndedAt: 2025-10-19 18:33:07 -0400 (Sun, 19 Oct 2025) EllapsedTime: 163.5 seconds RetCode: 0 Status: OK PackageFile: NewWave_1.19.0.tar.gz PackageFileSize: 94.23 KiB