Package: NewWave Version: 1.19.0 Command: rm -rf NewWave.buildbin-libdir && mkdir NewWave.buildbin-libdir && /Users/biocbuild/BBS/utils/build-universal.sh NewWave_1.19.0.tar.gz /Library/Frameworks/R.framework/Resources/bin/R NewWave.buildbin-libdir StartedAt: 2025-10-20 03:22:31 -0400 (Mon, 20 Oct 2025) EndedAt: 2025-10-20 03:23:11 -0400 (Mon, 20 Oct 2025) EllapsedTime: 39.3 seconds RetCode: 0 Status: OK PackageFile: NewWave_1.19.0.tgz PackageFileSize: 425.1 KiB