Package: NeuCA Version: 1.13.1 Command: chmod a+r NeuCA -R && F:\biocbuild\bbs-3.22-bioc\R\bin\R.exe CMD build --keep-empty-dirs --no-resave-data NeuCA StartedAt: 2025-04-08 20:59:39 -0400 (Tue, 08 Apr 2025) EndedAt: 2025-04-08 21:00:50 -0400 (Tue, 08 Apr 2025) EllapsedTime: 70.8 seconds RetCode: 1 Status: ERROR PackageFile: None PackageFileSize: NA