Package: NetPathMiner Version: 1.45.0 Command: rm -rf NetPathMiner.buildbin-libdir && mkdir NetPathMiner.buildbin-libdir && /Users/biocbuild/BBS/utils/build-universal.sh NetPathMiner_1.45.0.tar.gz /Library/Frameworks/R.framework/Resources/bin/R NetPathMiner.buildbin-libdir StartedAt: 2025-10-16 23:10:32 -0400 (Thu, 16 Oct 2025) EndedAt: 2025-10-16 23:10:41 -0400 (Thu, 16 Oct 2025) EllapsedTime: 8.1 seconds RetCode: 0 Status: OK PackageFile: NetPathMiner_1.45.0.tgz PackageFileSize: 2.578 MiB