Package: NanoTube Version: 1.15.0 Command: /home/biocbuild/R/R/bin/R CMD build --keep-empty-dirs --no-resave-data NanoTube StartedAt: 2025-10-21 01:40:20 -0000 (Tue, 21 Oct 2025) EndedAt: 2025-10-21 01:41:20 -0000 (Tue, 21 Oct 2025) EllapsedTime: 60.0 seconds RetCode: 0 Status: OK PackageFile: NanoTube_1.15.0.tar.gz PackageFileSize: 2.296 MiB