Package: NanoMethViz Version: 3.5.6 Command: /home/biocbuild/R/R/bin/R CMD INSTALL NanoMethViz StartedAt: 2025-10-23 21:16:55 -0000 (Thu, 23 Oct 2025) EndedAt: 2025-10-23 21:18:39 -0000 (Thu, 23 Oct 2025) EllapsedTime: 103.5 seconds RetCode: 0 Status: OK