Package: NanoMethViz Version: 3.6.0 Command: /home/biocbuild/bbs-3.22-bioc/R/bin/R CMD INSTALL NanoMethViz StartedAt: 2025-11-05 16:02:59 -0500 (Wed, 05 Nov 2025) EndedAt: 2025-11-05 16:04:14 -0500 (Wed, 05 Nov 2025) EllapsedTime: 74.6 seconds RetCode: 0 Status: OK