Package: NanoMethViz Version: 3.6.0 Command: /home/biocbuild/bbs-3.22-bioc/R/bin/R CMD check --install=check:NanoMethViz.install-out.txt --library=/home/biocbuild/bbs-3.22-bioc/R/site-library --timings NanoMethViz_3.6.0.tar.gz StartedAt: 2025-11-06 02:08:25 -0500 (Thu, 06 Nov 2025) EndedAt: 2025-11-06 02:20:49 -0500 (Thu, 06 Nov 2025) EllapsedTime: 743.8 seconds RetCode: 0 Status: OK CheckDir: NanoMethViz.Rcheck Warnings: 0