Package: NanoMethViz Version: 3.6.0 Command: /Library/Frameworks/R.framework/Resources/bin/R CMD INSTALL NanoMethViz StartedAt: 2025-11-03 15:51:35 -0500 (Mon, 03 Nov 2025) EndedAt: 2025-11-03 15:53:04 -0500 (Mon, 03 Nov 2025) EllapsedTime: 88.7 seconds RetCode: 0 Status: OK