Package: NanoMethViz Version: 3.6.0 Command: /Library/Frameworks/R.framework/Resources/bin/R CMD build --keep-empty-dirs --no-resave-data NanoMethViz StartedAt: 2025-11-03 18:00:18 -0500 (Mon, 03 Nov 2025) EndedAt: 2025-11-03 18:03:14 -0500 (Mon, 03 Nov 2025) EllapsedTime: 176.7 seconds RetCode: 0 Status: OK PackageFile: NanoMethViz_3.6.0.tar.gz PackageFileSize: 13.91 MiB