Package: NTW Version: 1.59.0 Command: F:\biocbuild\bbs-3.22-bioc\R\bin\R.exe CMD INSTALL NTW StartedAt: 2025-08-14 15:21:58 -0400 (Thu, 14 Aug 2025) EndedAt: 2025-08-14 15:22:23 -0400 (Thu, 14 Aug 2025) EllapsedTime: 25.5 seconds RetCode: 0 Status: OK