Package: NTW Version: 1.59.0 Command: chmod a+r NTW -R && F:\biocbuild\bbs-3.22-bioc\R\bin\R.exe CMD build --keep-empty-dirs --no-resave-data NTW StartedAt: 2025-08-14 21:57:20 -0400 (Thu, 14 Aug 2025) EndedAt: 2025-08-14 21:57:37 -0400 (Thu, 14 Aug 2025) EllapsedTime: 17.3 seconds RetCode: 0 Status: OK PackageFile: NTW_1.59.0.tar.gz PackageFileSize: 751.7 KiB