Package: NTW Version: 1.59.0 Command: /home/biocbuild/bbs-3.22-bioc/R/bin/R CMD INSTALL NTW StartedAt: 2025-10-19 15:05:51 -0400 (Sun, 19 Oct 2025) EndedAt: 2025-10-19 15:06:10 -0400 (Sun, 19 Oct 2025) EllapsedTime: 19.7 seconds RetCode: 0 Status: OK