Package: NTW Version: 1.59.0 Command: /home/biocbuild/bbs-3.22-bioc/R/bin/R CMD check --install=check:NTW.install-out.txt --library=/home/biocbuild/bbs-3.22-bioc/R/site-library --timings NTW_1.59.0.tar.gz StartedAt: 2025-10-20 02:46:17 -0400 (Mon, 20 Oct 2025) EndedAt: 2025-10-20 02:46:48 -0400 (Mon, 20 Oct 2025) EllapsedTime: 31.0 seconds RetCode: 0 Status: WARNINGS CheckDir: NTW.Rcheck Warnings: 1