Package: NTW Version: 1.59.0 Command: /Library/Frameworks/R.framework/Resources/bin/R CMD INSTALL NTW StartedAt: 2025-10-19 15:08:31 -0400 (Sun, 19 Oct 2025) EndedAt: 2025-10-19 15:09:06 -0400 (Sun, 19 Oct 2025) EllapsedTime: 35.2 seconds RetCode: 0 Status: OK