Package: NTW Version: 1.59.0 Command: /Library/Frameworks/R.framework/Resources/bin/R CMD build --keep-empty-dirs --no-resave-data NTW StartedAt: 2025-10-19 18:32:01 -0400 (Sun, 19 Oct 2025) EndedAt: 2025-10-19 18:32:29 -0400 (Sun, 19 Oct 2025) EllapsedTime: 28.6 seconds RetCode: 0 Status: OK PackageFile: NTW_1.59.0.tar.gz PackageFileSize: 870.9 KiB