Package: NPARC Version: 1.22.0 Command: /home/biocbuild/R/R/bin/R CMD build --keep-empty-dirs --no-resave-data NPARC StartedAt: 2025-11-14 03:50:20 -0000 (Fri, 14 Nov 2025) EndedAt: 2025-11-14 03:55:37 -0000 (Fri, 14 Nov 2025) EllapsedTime: 317.1 seconds RetCode: 0 Status: OK PackageFile: NPARC_1.22.0.tar.gz PackageFileSize: 2.015 MiB