Package: NPARC Version: 1.21.0 Command: rm -rf NPARC.buildbin-libdir && mkdir NPARC.buildbin-libdir && F:\biocbuild\bbs-3.22-bioc\R\bin\R.exe CMD INSTALL --build --library=NPARC.buildbin-libdir NPARC_1.21.0.tar.gz StartedAt: 2025-08-15 10:51:37 -0400 (Fri, 15 Aug 2025) EndedAt: 2025-08-15 10:51:54 -0400 (Fri, 15 Aug 2025) EllapsedTime: 16.9 seconds RetCode: 0 Status: OK PackageFile: NPARC_1.21.0.zip PackageFileSize: 2.13 MiB