Package: NPARC Version: 1.22.0 Command: /home/biocbuild/bbs-3.22-bioc/R/bin/R CMD INSTALL NPARC StartedAt: 2025-11-13 15:09:51 -0500 (Thu, 13 Nov 2025) EndedAt: 2025-11-13 15:10:03 -0500 (Thu, 13 Nov 2025) EllapsedTime: 11.9 seconds RetCode: 0 Status: OK