Package: NPARC Version: 1.22.0 Command: /home/biocbuild/bbs-3.22-bioc/R/bin/R CMD build --keep-empty-dirs --no-resave-data --md5 NPARC StartedAt: 2025-11-14 19:08:03 -0500 (Fri, 14 Nov 2025) EndedAt: 2025-11-14 19:11:34 -0500 (Fri, 14 Nov 2025) EllapsedTime: 211.2 seconds RetCode: 0 Status: OK PackageFile: NPARC_1.22.0.tar.gz PackageFileSize: 2.253 MiB