Package: NCIgraph Version: 1.57.0 Command: /home/biocbuild/R/R/bin/R CMD build --keep-empty-dirs --no-resave-data NCIgraph StartedAt: 2025-10-21 01:40:48 -0000 (Tue, 21 Oct 2025) EndedAt: 2025-10-21 01:41:07 -0000 (Tue, 21 Oct 2025) EllapsedTime: 19.0 seconds RetCode: 0 Status: OK PackageFile: NCIgraph_1.57.0.tar.gz PackageFileSize: 197.9 KiB