Package: NCIgraph Version: 1.58.0 Command: /home/biocbuild/bbs-3.22-bioc/R/bin/R CMD INSTALL NCIgraph StartedAt: 2025-10-31 15:42:15 -0400 (Fri, 31 Oct 2025) EndedAt: 2025-10-31 15:42:22 -0400 (Fri, 31 Oct 2025) EllapsedTime: 7.0 seconds RetCode: 0 Status: OK