Package: NCIgraph Version: 1.58.0 Maintainer: Laurent Jacob MaintainerEmail: laurent.jacob at gmail.com git_url: https://git.bioconductor.org/packages/NCIgraph git_branch: RELEASE_3_22 git_last_commit: eb4dd86 git_last_commit_date: 2025-10-29 10:07:17 -0400 (Wed, 29 Oct 2025)