Package: NBAMSeq Version: 1.25.0 Command: F:\biocbuild\bbs-3.22-bioc\R\bin\R.exe CMD check --no-multiarch --install=check:NBAMSeq.install-out.txt --library=F:\biocbuild\bbs-3.22-bioc\R\library --no-vignettes --timings NBAMSeq_1.25.0.tar.gz StartedAt: 2025-08-15 05:48:31 -0400 (Fri, 15 Aug 2025) EndedAt: 2025-08-15 05:52:43 -0400 (Fri, 15 Aug 2025) EllapsedTime: 251.6 seconds RetCode: 0 Status: OK CheckDir: NBAMSeq.Rcheck Warnings: 0