Package: NBAMSeq Version: 1.26.0 Command: /Library/Frameworks/R.framework/Resources/bin/R CMD check --install=check:NBAMSeq.install-out.txt --library=/Library/Frameworks/R.framework/Resources/library --no-vignettes --timings NBAMSeq_1.26.0.tar.gz StartedAt: 2025-11-03 22:54:45 -0500 (Mon, 03 Nov 2025) EndedAt: 2025-11-03 22:58:40 -0500 (Mon, 03 Nov 2025) EllapsedTime: 235.1 seconds RetCode: 0 Status: OK CheckDir: NBAMSeq.Rcheck Warnings: 0