Package: NBAMSeq Version: 1.26.0 Command: /Library/Frameworks/R.framework/Resources/bin/R CMD build --keep-empty-dirs --no-resave-data NBAMSeq StartedAt: 2025-11-03 18:00:48 -0500 (Mon, 03 Nov 2025) EndedAt: 2025-11-03 18:01:50 -0500 (Mon, 03 Nov 2025) EllapsedTime: 61.7 seconds RetCode: 0 Status: OK PackageFile: NBAMSeq_1.26.0.tar.gz PackageFileSize: 365.6 KiB