Package: NBAMSeq Version: 1.26.0 Command: /Library/Frameworks/R.framework/Resources/bin/R CMD build --keep-empty-dirs --no-resave-data NBAMSeq StartedAt: 2025-11-10 17:12:23 -0500 (Mon, 10 Nov 2025) EndedAt: 2025-11-10 17:12:45 -0500 (Mon, 10 Nov 2025) EllapsedTime: 22.2 seconds RetCode: 0 Status: OK PackageFile: NBAMSeq_1.26.0.tar.gz PackageFileSize: 346.6 KiB