Package: NBAMSeq Version: 1.26.0 Command: rm -rf NBAMSeq.buildbin-libdir && mkdir NBAMSeq.buildbin-libdir && /Users/biocbuild/BBS/utils/build-universal.sh NBAMSeq_1.26.0.tar.gz /Library/Frameworks/R.framework/Resources/bin/R NBAMSeq.buildbin-libdir StartedAt: 2025-11-10 23:29:21 -0500 (Mon, 10 Nov 2025) EndedAt: 2025-11-10 23:29:34 -0500 (Mon, 10 Nov 2025) EllapsedTime: 13.3 seconds RetCode: 0 Status: OK PackageFile: NBAMSeq_1.26.0.tgz PackageFileSize: 401.3 KiB