Package: NADfinder Version: 1.33.0 Command: /Library/Frameworks/R.framework/Resources/bin/R CMD INSTALL NADfinder StartedAt: 2025-10-22 15:46:59 -0400 (Wed, 22 Oct 2025) EndedAt: 2025-10-22 15:48:33 -0400 (Wed, 22 Oct 2025) EllapsedTime: 93.2 seconds RetCode: 0 Status: OK