Package: NADfinder Version: 1.33.0 Command: rm -rf NADfinder.buildbin-libdir && mkdir NADfinder.buildbin-libdir && /Users/biocbuild/BBS/utils/build-universal.sh NADfinder_1.33.0.tar.gz /Library/Frameworks/R.framework/Resources/bin/R NADfinder.buildbin-libdir StartedAt: 2025-10-23 01:45:08 -0400 (Thu, 23 Oct 2025) EndedAt: 2025-10-23 01:46:43 -0400 (Thu, 23 Oct 2025) EllapsedTime: 94.8 seconds RetCode: 0 Status: OK PackageFile: NADfinder_1.33.0.tgz PackageFileSize: 6.51 MiB