Package: NADfinder Version: 1.33.0 Command: /Library/Frameworks/R.framework/Resources/bin/R CMD INSTALL NADfinder StartedAt: 2025-10-24 15:31:04 -0400 (Fri, 24 Oct 2025) EndedAt: 2025-10-24 15:31:32 -0400 (Fri, 24 Oct 2025) EllapsedTime: 28.2 seconds RetCode: 0 Status: OK