Package: NADfinder Version: 1.33.0 Command: /Library/Frameworks/R.framework/Resources/bin/R CMD check --install=check:NADfinder.install-out.txt --library=/Library/Frameworks/R.framework/Resources/library --no-vignettes --timings NADfinder_1.33.0.tar.gz StartedAt: 2025-10-23 21:08:01 -0400 (Thu, 23 Oct 2025) EndedAt: 2025-10-23 21:11:32 -0400 (Thu, 23 Oct 2025) EllapsedTime: 210.9 seconds RetCode: 0 Status: OK CheckDir: NADfinder.Rcheck Warnings: 0