Package: MungeSumstats Version: 1.17.2 Command: F:\biocbuild\bbs-3.22-bioc\R\bin\R.exe CMD check --no-multiarch --install=check:MungeSumstats.install-out.txt --library=F:\biocbuild\bbs-3.22-bioc\R\library --no-vignettes --timings MungeSumstats_1.17.2.tar.gz StartedAt: 2025-08-15 05:43:06 -0400 (Fri, 15 Aug 2025) EndedAt: 2025-08-15 06:02:04 -0400 (Fri, 15 Aug 2025) EllapsedTime: 1138.1 seconds RetCode: 0 Status: OK CheckDir: MungeSumstats.Rcheck Warnings: 0