Package: MungeSumstats Version: 1.18.0 Command: /home/biocbuild/bbs-3.22-bioc/R/bin/R CMD build --keep-empty-dirs --no-resave-data --md5 MungeSumstats StartedAt: 2025-10-30 01:20:37 -0400 (Thu, 30 Oct 2025) EndedAt: 2025-10-30 01:21:56 -0400 (Thu, 30 Oct 2025) EllapsedTime: 78.1 seconds RetCode: 0 Status: OK PackageFile: MungeSumstats_1.18.0.tar.gz PackageFileSize: 2.386 MiB