Package: MungeSumstats Version: 1.17.5 Command: /Library/Frameworks/R.framework/Resources/bin/R CMD check --install=check:MungeSumstats.install-out.txt --library=/Library/Frameworks/R.framework/Resources/library --no-vignettes --timings MungeSumstats_1.17.5.tar.gz StartedAt: 2025-10-21 00:13:01 -0400 (Tue, 21 Oct 2025) EndedAt: 2025-10-21 00:34:56 -0400 (Tue, 21 Oct 2025) EllapsedTime: 1314.8 seconds RetCode: 0 Status: OK CheckDir: MungeSumstats.Rcheck Warnings: 0