Package: MungeSumstats Version: 1.17.5 Command: /Library/Frameworks/R.framework/Resources/bin/R CMD check --install=check:MungeSumstats.install-out.txt --library=/Library/Frameworks/R.framework/Resources/library --no-vignettes --timings MungeSumstats_1.17.5.tar.gz StartedAt: 2025-10-20 20:58:54 -0400 (Mon, 20 Oct 2025) EndedAt: 2025-10-20 21:04:38 -0400 (Mon, 20 Oct 2025) EllapsedTime: 344.4 seconds RetCode: 0 Status: OK CheckDir: MungeSumstats.Rcheck Warnings: 0