Package: MultiAssayExperiment Version: 1.35.9 Command: /home/biocbuild/R/R/bin/R CMD build --keep-empty-dirs --no-resave-data MultiAssayExperiment StartedAt: 2025-10-21 01:36:34 -0000 (Tue, 21 Oct 2025) EndedAt: 2025-10-21 01:37:59 -0000 (Tue, 21 Oct 2025) EllapsedTime: 85.0 seconds RetCode: 0 Status: OK PackageFile: MultiAssayExperiment_1.35.9.tar.gz PackageFileSize: 1.348 MiB