Package: MultiAssayExperiment Version: 1.36.0 Command: /home/biocbuild/bbs-3.22-bioc/R/bin/R CMD check --install=check:MultiAssayExperiment.install-out.txt --library=/home/biocbuild/bbs-3.22-bioc/R/site-library --timings MultiAssayExperiment_1.36.0.tar.gz StartedAt: 2025-11-07 01:54:25 -0500 (Fri, 07 Nov 2025) EndedAt: 2025-11-07 01:58:54 -0500 (Fri, 07 Nov 2025) EllapsedTime: 269.3 seconds RetCode: 0 Status: OK CheckDir: MultiAssayExperiment.Rcheck Warnings: 0