Package: MultiAssayExperiment Version: 1.36.0 Command: /Library/Frameworks/R.framework/Resources/bin/R CMD INSTALL MultiAssayExperiment StartedAt: 2025-11-03 15:24:55 -0500 (Mon, 03 Nov 2025) EndedAt: 2025-11-03 15:25:37 -0500 (Mon, 03 Nov 2025) EllapsedTime: 41.4 seconds RetCode: 0 Status: OK