Package: MultiAssayExperiment Version: 1.36.0 Command: /Library/Frameworks/R.framework/Resources/bin/R CMD build --keep-empty-dirs --no-resave-data MultiAssayExperiment StartedAt: 2025-11-06 17:09:31 -0500 (Thu, 06 Nov 2025) EndedAt: 2025-11-06 17:09:58 -0500 (Thu, 06 Nov 2025) EllapsedTime: 27.3 seconds RetCode: 0 Status: OK PackageFile: MultiAssayExperiment_1.36.0.tar.gz PackageFileSize: 1.303 MiB