Package: MuData Version: 1.13.0 Command: /home/biocbuild/R/R/bin/R CMD INSTALL MuData StartedAt: 2025-10-16 21:31:55 -0000 (Thu, 16 Oct 2025) EndedAt: 2025-10-16 21:32:27 -0000 (Thu, 16 Oct 2025) EllapsedTime: 32.4 seconds RetCode: 0 Status: OK