Package: MuData Version: 1.13.0 Command: /Library/Frameworks/R.framework/Resources/bin/R CMD INSTALL MuData StartedAt: 2025-10-19 15:22:29 -0400 (Sun, 19 Oct 2025) EndedAt: 2025-10-19 15:23:04 -0400 (Sun, 19 Oct 2025) EllapsedTime: 35.0 seconds RetCode: 0 Status: OK