Package: MuData Version: 1.13.0 Command: /Library/Frameworks/R.framework/Resources/bin/R CMD check --install=check:MuData.install-out.txt --library=/Library/Frameworks/R.framework/Resources/library --no-vignettes --timings MuData_1.13.0.tar.gz StartedAt: 2025-10-19 20:55:24 -0400 (Sun, 19 Oct 2025) EndedAt: 2025-10-19 20:56:37 -0400 (Sun, 19 Oct 2025) EllapsedTime: 72.9 seconds RetCode: 0 Status: OK CheckDir: MuData.Rcheck Warnings: 0