Package: MsQuality Version: 1.9.2 Command: F:\biocbuild\bbs-3.22-bioc\R\bin\R.exe CMD check --no-multiarch --install=check:MsQuality.install-out.txt --library=F:\biocbuild\bbs-3.22-bioc\R\library --no-vignettes --timings MsQuality_1.9.2.tar.gz StartedAt: 2025-08-15 05:35:20 -0400 (Fri, 15 Aug 2025) EndedAt: 2025-08-15 06:03:49 -0400 (Fri, 15 Aug 2025) EllapsedTime: 1708.3 seconds RetCode: 0 Status: OK CheckDir: MsQuality.Rcheck Warnings: 0