Package: MsQuality Version: 1.9.2 Command: rm -rf MsQuality.buildbin-libdir && mkdir MsQuality.buildbin-libdir && F:\biocbuild\bbs-3.22-bioc\R\bin\R.exe CMD INSTALL --build --library=MsQuality.buildbin-libdir MsQuality_1.9.2.tar.gz StartedAt: 2025-08-15 10:46:51 -0400 (Fri, 15 Aug 2025) EndedAt: 2025-08-15 10:48:05 -0400 (Fri, 15 Aug 2025) EllapsedTime: 74.1 seconds RetCode: 0 Status: OK PackageFile: MsQuality_1.9.2.zip PackageFileSize: 4.385 MiB