Package: MsQuality Version: 1.9.2 Command: /Library/Frameworks/R.framework/Resources/bin/R CMD INSTALL MsQuality StartedAt: 2025-10-05 15:19:44 -0400 (Sun, 05 Oct 2025) EndedAt: 2025-10-05 15:19:57 -0400 (Sun, 05 Oct 2025) EllapsedTime: 13.5 seconds RetCode: 0 Status: OK