Package: MsQuality Version: 1.9.2 Command: /Library/Frameworks/R.framework/Resources/bin/R CMD build --keep-empty-dirs --no-resave-data MsQuality StartedAt: 2025-10-05 17:11:05 -0400 (Sun, 05 Oct 2025) EndedAt: 2025-10-05 17:11:34 -0400 (Sun, 05 Oct 2025) EllapsedTime: 28.3 seconds RetCode: 0 Status: OK PackageFile: MsQuality_1.9.2.tar.gz PackageFileSize: 4.244 MiB