Package: MsFeatures Version: 1.17.1 Command: /home/biocbuild/R/R/bin/R CMD INSTALL MsFeatures StartedAt: 2025-10-16 21:35:30 -0000 (Thu, 16 Oct 2025) EndedAt: 2025-10-16 21:35:58 -0000 (Thu, 16 Oct 2025) EllapsedTime: 28.1 seconds RetCode: 0 Status: OK