Package: MsFeatures Version: 1.17.1 Command: /home/biocbuild/R/R/bin/R CMD build --keep-empty-dirs --no-resave-data MsFeatures StartedAt: 2025-10-21 01:31:39 -0000 (Tue, 21 Oct 2025) EndedAt: 2025-10-21 01:32:29 -0000 (Tue, 21 Oct 2025) EllapsedTime: 50.0 seconds RetCode: 0 Status: OK PackageFile: MsFeatures_1.17.1.tar.gz PackageFileSize: 829 KiB