Package: MsFeatures Version: 1.17.1 Command: /home/biocbuild/bbs-3.22-bioc/R/bin/R CMD INSTALL MsFeatures StartedAt: 2025-10-20 15:21:29 -0400 (Mon, 20 Oct 2025) EndedAt: 2025-10-20 15:21:49 -0400 (Mon, 20 Oct 2025) EllapsedTime: 20.2 seconds RetCode: 0 Status: OK